BEGIN:VCALENDAR
VERSION:2.0
PRODID:-//Coudersport Public Library - ECPv6.8.3//NONSGML v1.0//EN
CALSCALE:GREGORIAN
METHOD:PUBLISH
X-ORIGINAL-URL:https://coudersportlibrary.org
X-WR-CALDESC:Events for Coudersport Public Library
REFRESH-INTERVAL;VALUE=DURATION:PT1H
X-Robots-Tag:noindex
X-PUBLISHED-TTL:PT1H
BEGIN:VTIMEZONE
TZID:America/New_York
BEGIN:DAYLIGHT
TZOFFSETFROM:-0500
TZOFFSETTO:-0400
TZNAME:EDT
DTSTART:20260308T070000
END:DAYLIGHT
BEGIN:STANDARD
TZOFFSETFROM:-0400
TZOFFSETTO:-0500
TZNAME:EST
DTSTART:20261101T060000
END:STANDARD
END:VTIMEZONE
BEGIN:VEVENT
DTSTART;TZID=America/New_York:20260421T100000
DTEND;TZID=America/New_York:20260421T110000
DTSTAMP:20260420T042846
CREATED:20260310T180134Z
LAST-MODIFIED:20260310T180134Z
UID:10000159-1776765600-1776769200@coudersportlibrary.org
SUMMARY:Pre School Story Hour
DESCRIPTION:
URL:https://coudersportlibrary.org/event/pre-school-story-hour/2026-04-21/
END:VEVENT
BEGIN:VEVENT
DTSTART;TZID=America/New_York:20260428T100000
DTEND;TZID=America/New_York:20260428T110000
DTSTAMP:20260420T042846
CREATED:20260310T180134Z
LAST-MODIFIED:20260310T180134Z
UID:10000160-1777370400-1777374000@coudersportlibrary.org
SUMMARY:Pre School Story Hour
DESCRIPTION:
URL:https://coudersportlibrary.org/event/pre-school-story-hour/2026-04-28/
END:VEVENT
BEGIN:VEVENT
DTSTART;TZID=America/New_York:20260428T190000
DTEND;TZID=America/New_York:20260428T210000
DTSTAMP:20260420T042846
CREATED:20260311T180230Z
LAST-MODIFIED:20260311T180230Z
UID:10000200-1777402800-1777410000@coudersportlibrary.org
SUMMARY:Open Mic Poetry Night
DESCRIPTION:
URL:https://coudersportlibrary.org/event/open-mic-poetry-night/
END:VEVENT
END:VCALENDAR